BEGIN:VCALENDAR
VERSION:2.0
CALSCALE:GREGORIAN
PRODID:adamgibbons/ics
METHOD:PUBLISH
X-PUBLISHED-TTL:PT1H
BEGIN:VEVENT
UID:211@calndr.de
SUMMARY:Medienliebe.live | Digitale Souveränität ist machbar!
DTSTAMP:20260421T191430Z
DTSTART:20260422T170000Z
DTEND:20260422T190000Z
DESCRIPTION:Markus Beckedahl [https://markus-beckedahl.de/]\, netzpolitik.o
	rg\n[http://netzpolitik.org]\, Mitgründer des Zentrums für Digitalrechte u
	nd\nDemokratie\n\nLängst ist klar: Bei Cloud Diensten\, digitaler Infrastr
	uktur und zentralen\nKommunikationsplattformen sind wir stark von großen U
	S-Konzernen abhängig. Doch\ndigitale Souveränität ist machbar. Wir müssen 
	uns eine bessere digitale Welt\nvorstellen – und sie dann gemeinsam bauen.
	\n\nDigitale Souveränität bedeutet weit mehr als die Unabhängigkeit von Bi
	g Tech und\nhat nichts mit Isolation zu tun. Sie ist die Grundlage für Ver
	antwortung\,\nTransparenz und demokratische Gestaltung im digitalen Raum. 
	\n\nMedienliebe.live [http://Medienliebe.live] ist eine Kooperation des He
	inz\nNixdorf MuseumsForum und dem Bildungsbüro Kreis Paderborn.\n\n Anmeld
	ung\n[https://www.bildungsregion-paderborn.de/biz/bildungsbuero/Medienlieb
	e.live-Digitale-Souveraenitaet-ist-machbar.php]\n\nÖFFNUNG DES MUSEUMS\n\n
	An allen Vortragsabenden ist das Museum bis zum Beginn der Veranstaltung\n
	geöffnet. Der Eintritt ist ab 17 Uhr frei!\n\nSnacks und Getränke gibt es 
	- außer montags - im Café F7\n[https://www.hnf.de/besuch/shop-imbiss/gastr
	onomie.html] bis zum Beginn des\nVortrags.
URL:https://calndr.de/event/medienliebelive-or-digitale-souveranitat-ist-ma
	chbar
GEO:51.731342;8.7356258
LOCATION:Paderborn\, Heinz Nixdorf MuseumsForum - 7\, Fürstenallee\, Paderb
	orn\, Schloß Neuhaus\, Paderborn\, Kreis Paderborn\, Nordrhein-Westfalen\,
	 33102\, Deutschland
STATUS:CONFIRMED
CATEGORIES:paderborn,digital rights,Digitalpolitk,Vortrag
X-ALT-DESC;FMTTYPE=text/html:<p><a href="https://markus-beckedahl.de/" targ
	et="_blank">Markus Beckedahl</a>, <a href="http://netzpolitik.org" target=
	"_blank">netzpolitik.org</a>, Mitgründer des Zentrums für Digitalrechte un
	d Demokratie</p><p>Längst ist klar: Bei Cloud Diensten, digitaler Infrastr
	uktur und zentralen Kommunikationsplattformen sind wir stark von großen US
	-Konzernen abhängig. Doch digitale Souveränität ist machbar. Wir müssen un
	s eine bessere digitale Welt vorstellen – und sie dann gemeinsam bauen.</p
	><p>Digitale Souveränität bedeutet weit mehr als die Unabhängigkeit von Bi
	g Tech und hat nichts mit Isolation zu tun. Sie ist die Grundlage für Vera
	ntwortung, Transparenz und demokratische Gestaltung im digitalen Raum.&nbs
	p;</p><p><a href="http://Medienliebe.live" target="_blank">Medienliebe.liv
	e</a> ist eine Kooperation&nbsp;des Heinz Nixdorf MuseumsForum und dem Bil
	dungsbüro Kreis Paderborn.<br><br>&nbsp;<a href="https://www.bildungsregio
	n-paderborn.de/biz/bildungsbuero/Medienliebe.live-Digitale-Souveraenitaet-
	ist-machbar.php" target="_blank">Anmeldung</a></p><h4>Öffnung des Museums<
	/h4><p>An allen Vortragsabenden ist das Museum bis zum Beginn der Veransta
	ltung geöffnet. Der Eintritt ist ab 17 Uhr frei!</p><p>Snacks und Getränke
	 gibt es - außer montags - im <a href="https://www.hnf.de/besuch/shop-imbi
	ss/gastronomie.html" target="_self">Café F7</a> bis zum Beginn des Vortrag
	s.</p>
BEGIN:VALARM
ACTION:DISPLAY
DESCRIPTION:Medienliebe.live | Digitale Souveränität ist machbar!
TRIGGER:-PT1H
END:VALARM
END:VEVENT
END:VCALENDAR
