BEGIN:VCALENDAR
VERSION:2.0
CALSCALE:GREGORIAN
PRODID:adamgibbons/ics
METHOD:PUBLISH
X-PUBLISHED-TTL:PT1H
BEGIN:VEVENT
UID:212@calndr.de
SUMMARY:24.04. Energiewende Retten!
DTSTAMP:20260422T231616Z
DTSTART:20260424T150000Z
URL:https://calndr.de/event/2404-energiewende-retten
GEO:51.71721;8.753483727649822
LOCATION:Paderborn\, Rathausplatz - Rathausplatz\, Paderborn\, Kreis Paderb
	orn\, Nordrhein-Westfalen\, 33098\, Deutschland
STATUS:CONFIRMED
CATEGORIES:aktion,Allgemein,Demonstration,Energiewende,paderborn,Termine
END:VEVENT
END:VCALENDAR
