BEGIN:VCALENDAR
VERSION:2.0
CALSCALE:GREGORIAN
PRODID:adamgibbons/ics
METHOD:PUBLISH
X-PUBLISHED-TTL:PT1H
BEGIN:VEVENT
UID:193@calndr.de
SUMMARY:Security Meetup
DTSTAMP:20260421T195055Z
DTSTART:20260430T170000Z
DTEND:20260430T190000Z
URL:https://calndr.de/event/security-meetup-3
LOCATION:AKKA - Giersstraße 31\, 33098 Paderborn
STATUS:CONFIRMED
CATEGORIES:IT Security,Vernetzung,paderborn,Netzpolitik
END:VEVENT
BEGIN:VEVENT
UID:197@calndr.de
SUMMARY:Datenschutz- und Feditreff der Datenpunks Bielefeld
DTSTAMP:20260421T195055Z
DTSTART:20260505T170000Z
URL:https://calndr.de/event/datenschutz-und-feditreff-der-datenpunks-bielef
	eld-15
GEO:52.0088632;8.5236976
LOCATION:Neue Schmiede Bielefeld - Handwerkerstraße 7 33617 Bielefeld
STATUS:CONFIRMED
CATEGORIES:Vernetzung,Digitalpolitk,Feditreff,fediverse,Netzpolitik,Bielefe
	ld,datenpunks,Datenschutz
END:VEVENT
BEGIN:VEVENT
UID:202@calndr.de
SUMMARY:Offenes KI Treffen
DTSTAMP:20260421T195055Z
DTSTART:20260511T170000Z
DTEND:20260511T190000Z
URL:https://calndr.de/event/offenes-ki-treffen-2
LOCATION:Projektbüro Soziale Teilhabe - Mühlenstraße 43\, Paderborn
STATUS:CONFIRMED
CATEGORIES:Vernetzung,paderborn,KI,AI
END:VEVENT
END:VCALENDAR
